BEGIN:VCALENDAR
PRODID:-//Events Calendar//iCal4j 1.0//EN
CALSCALE:GREGORIAN
BEGIN:VEVENT
DTSTAMP:20260421T084915Z
DTSTART:20260430T000000
DTEND:20260502T000000
SUMMARY:30 april t/m 2 mei - Tuinmarkt Lidl
TZID:Europe/Brussels
UID:20260421T084915Z-uidGen@fe80:0:0:0:4461:bdff:fe1c:3b0f%eth0
DESCRIPTION:Tuinmarkt
LOCATION:Lidl 741\, Callunastraat 17\, Wezep
END:VEVENT
END:VCALENDAR
