BEGIN:VCALENDAR
PRODID:-//Events Calendar//iCal4j 1.0//EN
CALSCALE:GREGORIAN
BEGIN:VEVENT
DTSTAMP:20260421T084100Z
DTSTART:20260404T180000
DTEND:20260404T235900
SUMMARY:4 april - Paasvuur Oosterwolde (Gld)
TZID:Europe/Brussels
UID:20260421T084100Z-uidGen@fe80:0:0:0:d099:46ff:fe82:37f1%eth0
DESCRIPTION:Paasvuur
LOCATION:Duinkerkerweg\, Oosterwolde (Gld)
END:VEVENT
END:VCALENDAR
