BEGIN:VCALENDAR
PRODID:-//Events Calendar//iCal4j 1.0//EN
CALSCALE:GREGORIAN
BEGIN:VEVENT
DTSTAMP:20260421T171451Z
DTSTART:20260916T080000
DTEND:20260916T220000
SUMMARY:16 september - Schapenmarkt
TZID:Europe/Brussels
UID:20260421T171451Z-uidGen@fe80:0:0:0:4461:bdff:fe1c:3b0f%eth0
DESCRIPTION:Jaarmarkt met verschillende activiteiten.
LOCATION:Centrum van Oldebroek
END:VEVENT
END:VCALENDAR
