BEGIN:VCALENDAR
PRODID:-//Events Calendar//iCal4j 1.0//EN
CALSCALE:GREGORIAN
BEGIN:VEVENT
DTSTAMP:20260421T131010Z
DTSTART:20260530T080000
DTEND:20260530T170000
SUMMARY:30 mei - Verbindend Akkerfeest
TZID:Europe/Brussels
UID:20260421T131010Z-uidGen@fe80:0:0:0:4461:bdff:fe1c:3b0f%eth0
DESCRIPTION:Akkerfeest
LOCATION:Veld aan de Roggeakker\, Wezep
END:VEVENT
END:VCALENDAR
