BEGIN:VCALENDAR
PRODID:-//Events Calendar//iCal4j 1.0//EN
CALSCALE:GREGORIAN
BEGIN:VEVENT
DTSTAMP:20260421T153350Z
DTSTART:20260826T180000
DTEND:20260826T235900
SUMMARY:26 augustus - Tienernacht 
TZID:Europe/Brussels
UID:20260421T153350Z-uidGen@fe80:0:0:0:d099:46ff:fe82:37f1%eth0
DESCRIPTION:Dit (gratis) evenement vindt al meer dan 10 jaar plaats voor de jeugd van regio Oldebroek. Vermaak\, sport en spel waaronder een buikschuifbaan\, race simulator\, voetballen en darten.
LOCATION:VV OWIOS en het tienerhonk Kulturhus\, Oldebroek
END:VEVENT
END:VCALENDAR
